BEGIN:VCALENDAR
VERSION:2.0
PRODID:-//Historic East Hampton - ECPv6.15.20//NONSGML v1.0//EN
CALSCALE:GREGORIAN
METHOD:PUBLISH
X-WR-CALNAME:Historic East Hampton
X-ORIGINAL-URL:https://easthamptonhistory.org
X-WR-CALDESC:Events for Historic East Hampton
REFRESH-INTERVAL;VALUE=DURATION:PT1H
X-Robots-Tag:noindex
X-PUBLISHED-TTL:PT1H
BEGIN:VTIMEZONE
TZID:America/New_York
BEGIN:DAYLIGHT
TZOFFSETFROM:-0500
TZOFFSETTO:-0400
TZNAME:EDT
DTSTART:20220313T070000
END:DAYLIGHT
BEGIN:STANDARD
TZOFFSETFROM:-0400
TZOFFSETTO:-0500
TZNAME:EST
DTSTART:20221106T060000
END:STANDARD
BEGIN:DAYLIGHT
TZOFFSETFROM:-0500
TZOFFSETTO:-0400
TZNAME:EDT
DTSTART:20230312T070000
END:DAYLIGHT
BEGIN:STANDARD
TZOFFSETFROM:-0400
TZOFFSETTO:-0500
TZNAME:EST
DTSTART:20231105T060000
END:STANDARD
BEGIN:DAYLIGHT
TZOFFSETFROM:-0500
TZOFFSETTO:-0400
TZNAME:EDT
DTSTART:20240310T070000
END:DAYLIGHT
BEGIN:STANDARD
TZOFFSETFROM:-0400
TZOFFSETTO:-0500
TZNAME:EST
DTSTART:20241103T060000
END:STANDARD
END:VTIMEZONE
BEGIN:VEVENT
DTSTART;TZID=America/New_York:20231123T180000
DTEND;TZID=America/New_York:20231123T200000
DTSTAMP:20260419T111525
CREATED:20230927T004814Z
LAST-MODIFIED:20230927T005257Z
UID:10000010-1700762400-1700769600@easthamptonhistory.org
SUMMARY:House & Garden Tour Cocktail Party
DESCRIPTION:
URL:https://easthamptonhistory.org/events/house-garden-tour-cocktail-party/
LOCATION:Maidstone Club\, 50 Old Beach Lane\, East Hampton\, NY\, 11937
ATTACH;FMTTYPE=image/jpeg:https://easthamptonhistory.org/wp-content/uploads/2023/09/maidstone.jpg
END:VEVENT
END:VCALENDAR