BEGIN:VCALENDAR
VERSION:2.0
PRODID:-//Historic East Hampton - ECPv6.15.20//NONSGML v1.0//EN
CALSCALE:GREGORIAN
METHOD:PUBLISH
X-ORIGINAL-URL:https://easthamptonhistory.org
X-WR-CALDESC:Events for Historic East Hampton
REFRESH-INTERVAL;VALUE=DURATION:PT1H
X-Robots-Tag:noindex
X-PUBLISHED-TTL:PT1H
BEGIN:VTIMEZONE
TZID:America/New_York
BEGIN:DAYLIGHT
TZOFFSETFROM:-0500
TZOFFSETTO:-0400
TZNAME:EDT
DTSTART:20220313T070000
END:DAYLIGHT
BEGIN:STANDARD
TZOFFSETFROM:-0400
TZOFFSETTO:-0500
TZNAME:EST
DTSTART:20221106T060000
END:STANDARD
BEGIN:DAYLIGHT
TZOFFSETFROM:-0500
TZOFFSETTO:-0400
TZNAME:EDT
DTSTART:20230312T070000
END:DAYLIGHT
BEGIN:STANDARD
TZOFFSETFROM:-0400
TZOFFSETTO:-0500
TZNAME:EST
DTSTART:20231105T060000
END:STANDARD
BEGIN:DAYLIGHT
TZOFFSETFROM:-0500
TZOFFSETTO:-0400
TZNAME:EDT
DTSTART:20240310T070000
END:DAYLIGHT
BEGIN:STANDARD
TZOFFSETFROM:-0400
TZOFFSETTO:-0500
TZNAME:EST
DTSTART:20241103T060000
END:STANDARD
END:VTIMEZONE
BEGIN:VEVENT
DTSTART;TZID=America/New_York:20231020T150000
DTEND;TZID=America/New_York:20231020T150000
DTSTAMP:20260419T125739
CREATED:20230926T205152Z
LAST-MODIFIED:20230926T205835Z
UID:10000008-1697814000-1697814000@easthamptonhistory.org
SUMMARY:Mulford Farmstead
DESCRIPTION:Visitors will have the opportunity to go inside one of East Hampton’s oldest homes and learn about the American Revolution through the eyes of the Mulford family and the enslaved Africans who lived there. Located on an original home lot in East Hampton\, the tour includes a visit to a barn built in 1720 and a traditional dooryard garden. Meet at 10 James Lane\, East Hampton.  \nPurchase tickets here: https://www.flipcause.com/secure/cause_pdetails/MTg4OTQ2
URL:https://easthamptonhistory.org/events/mulford-farmstead/
LOCATION:Mulford Farmstead\, 10 James Ln\, East Hampton\, NY\, 11937\, United States
CATEGORIES:Historical Tours
ATTACH;FMTTYPE=image/jpeg:https://easthamptonhistory.org/wp-content/uploads/2023/09/Mulford-Barn-walking-tour.jpg
END:VEVENT
END:VCALENDAR