BEGIN:VCALENDAR
VERSION:2.0
PRODID:-//Historic East Hampton - ECPv6.15.20//NONSGML v1.0//EN
CALSCALE:GREGORIAN
METHOD:PUBLISH
X-ORIGINAL-URL:https://easthamptonhistory.org
X-WR-CALDESC:Events for Historic East Hampton
REFRESH-INTERVAL;VALUE=DURATION:PT1H
X-Robots-Tag:noindex
X-PUBLISHED-TTL:PT1H
BEGIN:VTIMEZONE
TZID:America/New_York
BEGIN:DAYLIGHT
TZOFFSETFROM:-0500
TZOFFSETTO:-0400
TZNAME:EDT
DTSTART:20220313T070000
END:DAYLIGHT
BEGIN:STANDARD
TZOFFSETFROM:-0400
TZOFFSETTO:-0500
TZNAME:EST
DTSTART:20221106T060000
END:STANDARD
BEGIN:DAYLIGHT
TZOFFSETFROM:-0500
TZOFFSETTO:-0400
TZNAME:EDT
DTSTART:20230312T070000
END:DAYLIGHT
BEGIN:STANDARD
TZOFFSETFROM:-0400
TZOFFSETTO:-0500
TZNAME:EST
DTSTART:20231105T060000
END:STANDARD
BEGIN:DAYLIGHT
TZOFFSETFROM:-0500
TZOFFSETTO:-0400
TZNAME:EDT
DTSTART:20240310T070000
END:DAYLIGHT
BEGIN:STANDARD
TZOFFSETFROM:-0400
TZOFFSETTO:-0500
TZNAME:EST
DTSTART:20241103T060000
END:STANDARD
END:VTIMEZONE
BEGIN:VEVENT
DTSTART;TZID=America/New_York:20231015T100000
DTEND;TZID=America/New_York:20231015T100000
DTSTAMP:20260419T125806
CREATED:20230927T165637Z
LAST-MODIFIED:20230927T165637Z
UID:10000014-1697364000-1697364000@easthamptonhistory.org
SUMMARY:Thomas & Mary Nimmo Moran Home & Studio
DESCRIPTION:See East Hampton’s original artist studio and learn how the Morans transformed perceptions of nature and especially the American West during the late 19th century. During the Tour\, visitors can experience how the building functioned as a home\, artmaking studio\, and entertainment space. As a special treat\, you can see Thomas Moran’s painting\, Ulysses Deriding Polyphemus exactly as he displayed in the Studio. Meet at 229 Main Street\, East Hampton \nPurchase tickets here: https://www.flipcause.com/secure/cause_pdetails/MTg4OTQ2 \n 
URL:https://easthamptonhistory.org/events/thomas-mary-nimmo-moran-home-studio-2/
LOCATION:Moran Studio\, 229 Main St.\, East Hampton\, NY\, 11937\, United States
CATEGORIES:Historical Tours
ATTACH;FMTTYPE=image/jpeg:https://easthamptonhistory.org/wp-content/uploads/2023/09/Moran-Bedroom-16x9-1.jpg
END:VEVENT
END:VCALENDAR