BEGIN:VCALENDAR
VERSION:2.0
PRODID:-//Historic East Hampton - ECPv6.15.20//NONSGML v1.0//EN
CALSCALE:GREGORIAN
METHOD:PUBLISH
X-ORIGINAL-URL:https://easthamptonhistory.org
X-WR-CALDESC:Events for Historic East Hampton
REFRESH-INTERVAL;VALUE=DURATION:PT1H
X-Robots-Tag:noindex
X-PUBLISHED-TTL:PT1H
BEGIN:VTIMEZONE
TZID:America/New_York
BEGIN:DAYLIGHT
TZOFFSETFROM:-0500
TZOFFSETTO:-0400
TZNAME:EDT
DTSTART:20220313T070000
END:DAYLIGHT
BEGIN:STANDARD
TZOFFSETFROM:-0400
TZOFFSETTO:-0500
TZNAME:EST
DTSTART:20221106T060000
END:STANDARD
BEGIN:DAYLIGHT
TZOFFSETFROM:-0500
TZOFFSETTO:-0400
TZNAME:EDT
DTSTART:20230312T070000
END:DAYLIGHT
BEGIN:STANDARD
TZOFFSETFROM:-0400
TZOFFSETTO:-0500
TZNAME:EST
DTSTART:20231105T060000
END:STANDARD
BEGIN:DAYLIGHT
TZOFFSETFROM:-0500
TZOFFSETTO:-0400
TZNAME:EDT
DTSTART:20240310T070000
END:DAYLIGHT
BEGIN:STANDARD
TZOFFSETFROM:-0400
TZOFFSETTO:-0500
TZNAME:EST
DTSTART:20241103T060000
END:STANDARD
END:VTIMEZONE
BEGIN:VEVENT
DTSTART;TZID=America/New_York:20230927T100000
DTEND;TZID=America/New_York:20230927T100000
DTSTAMP:20260419T144748
CREATED:20230921T170918Z
LAST-MODIFIED:20230921T172340Z
UID:10000007-1695808800-1695808800@easthamptonhistory.org
SUMMARY:The Fascinating Story of Leisurama
DESCRIPTION:TOUR with East Hampton Trails Preservation Society: Wednesday September 27\, 2023\, at 10 AM. \nThe Fascinating Story of Leisurama\, with Montauk Historical Society. (2 miles) Executive Director Mia Certic leads this excursion through Culloden Shores. The community and beachfront are special\, but it’s the Leisurama Story\, buying a vacation house in Macy’s circa 1963\, that steals the show. \nMeet 10 AM at the parking lot on Soundview Drive between Gull Rd and Tern Drive\, Montauk. Leader: Irwin Levy\, 516-456-1337\, irwintlevy@gmail.com \n$12.00 \nTickets: https://www.flipcause.com/secure/event_step2/MTgxNjM4/210931 \n  \nPhoto: By Beyond My Ken – Own work\, CC BY-SA 4.0
URL:https://easthamptonhistory.org/events/the-fascinating-story-of-leisurama/
LOCATION:Soundview Drive\, Soundview Drive\, Montauk\, NY
CATEGORIES:Historical Tours
ATTACH;FMTTYPE=image/jpeg:https://easthamptonhistory.org/wp-content/uploads/2023/09/Leisurama-Montauk-scaled.jpg
END:VEVENT
END:VCALENDAR